BEGIN:VCALENDAR
PRODID:-//github.com/rianjs/ical.net//NONSGML ical.net 4.0//EN
VERSION:2.0
BEGIN:VTIMEZONE
TZID:Eastern Standard Time
X-LIC-LOCATION:America/New_York
BEGIN:STANDARD
DTSTART:20241103T020000
RRULE:FREQ=YEARLY;BYDAY=1SU;BYMONTH=11
TZNAME:EST
TZOFFSETFROM:-0400
TZOFFSETTO:-0500
END:STANDARD
BEGIN:DAYLIGHT
DTSTART:20250309T020000
RRULE:FREQ=YEARLY;BYDAY=2SU;BYMONTH=3
TZNAME:EDT
TZOFFSETFROM:-0500
TZOFFSETTO:-0400
END:DAYLIGHT
END:VTIMEZONE
BEGIN:VEVENT
DESCRIPTION:Premier Health: Multiple Sclerosis Patient Educational Seminar
  2026\nhttps://www.premierhealth.com/news-and-events/events/premier-healt
 h-ms-patient-educational-seminar-2026\n\nThe first annual Premier Health 
 MS Patient Educational Seminar offers evidenced based education for indiv
 iduals with Multiple Sclerosis and their caregivers. These educational se
 minars are designed to educate and empower those living with Multiple Scl
 erosis by giving them the tools and information to fight back against the
  disease.\n\nUniversity of Dayton-Daniel J. Curran Place\nMeyer Room\n170
 0 S. Patterson Blvd\nDayton\, OH 45409\n\n- Public transportation availab
 le\n- Handicap accessible\n- Please enter from the North Entrance. \nUpon
  entering from Patterson Blvd\, please turn left and proceed to the R2 Lo
 t.
DTEND:20261010T150000
DTSTAMP:20260421T142732Z
DTSTART:20261010T083000
LOCATION:Meyer Room\, 1700 S. Patterson Blvd\, Dayton\, OH 45409
SEQUENCE:0
SUMMARY:Premier Health: Multiple Sclerosis Patient Educational Seminar 2026
UID:1733a542c931409ab45fce6638679846
URL:https://www.premierhealth.com/news-and-events/events/premier-health-ms
 -patient-educational-seminar-2026
BEGIN:VALARM
ACTION:DISPLAY
DESCRIPTION:The first annual Premier Health MS Patient Educational Seminar
  offers evidenced based education for individuals with Multiple Sclerosis
  and their caregivers. These educational seminars are designed to educate
  and empower those living with Multiple Sclerosis by giving them the tool
 s and information to fight back against the disease.
SUMMARY:Premier Health: Multiple Sclerosis Patient Educational Seminar 2026
TRIGGER:-PT30M
END:VALARM
END:VEVENT
END:VCALENDAR
